BEGIN:VCALENDAR
VERSION:2.0
PRODID:-//pretix//Tikkets//
BEGIN:VTIMEZONE
TZID:Europe/Amsterdam
BEGIN:STANDARD
DTSTART:20001029T040000
RRULE:FREQ=YEARLY;BYDAY=-1SU;BYMONTH=10
TZNAME:CET
TZOFFSETFROM:+0200
TZOFFSETTO:+0100
END:STANDARD
BEGIN:DAYLIGHT
DTSTART:20000326T030000
RRULE:FREQ=YEARLY;BYDAY=-1SU;BYMONTH=3
TZNAME:CEST
TZOFFSETFROM:+0100
TZOFFSETTO:+0200
END:DAYLIGHT
END:VTIMEZONE
BEGIN:VEVENT
UID:pretix-durpsherd-weerlicht-0@tikkets.shop
DTSTART;TZID=Europe/Amsterdam:20240328T203000
DTEND;TZID=Europe/Amsterdam:20240328T213000
DESCRIPTION:Tickets: https://tikkets.shop/durpsherd/weerlicht/\nToegang: 28
 -3-2024 20:15\nOrganisator: Beneluxtheater
DTSTAMP:20260423T102502Z
LOCATION:Beneluxtheater\, Berlicum
SUMMARY:Rob Scheepers
END:VEVENT
END:VCALENDAR
