BEGIN:VCALENDAR
VERSION:2.0
PRODID:-//pretix//Tikkets//
BEGIN:VTIMEZONE
TZID:Europe/Amsterdam
BEGIN:STANDARD
DTSTART:20001029T040000
RRULE:FREQ=YEARLY;BYDAY=-1SU;BYMONTH=10
TZNAME:CET
TZOFFSETFROM:+0200
TZOFFSETTO:+0100
END:STANDARD
BEGIN:DAYLIGHT
DTSTART:20000326T030000
RRULE:FREQ=YEARLY;BYDAY=-1SU;BYMONTH=3
TZNAME:CEST
TZOFFSETFROM:+0100
TZOFFSETTO:+0200
END:DAYLIGHT
END:VTIMEZONE
BEGIN:VEVENT
UID:pretix-durpsherd-voices6-0@tikkets.shop
DTSTART;TZID=Europe/Amsterdam:20251115T190000
DTEND;TZID=Europe/Amsterdam:20251115T200000
DESCRIPTION:Tickets: https://tikkets.shop/durpsherd/voices6/\nToegang: 15-1
 1-2025 18:45\nOrganisator: Beneluxtheater
DTSTAMP:20260421T102700Z
LOCATION:Beneluxtheater\, Berlicum
SUMMARY:Live On Stage: Voices
END:VEVENT
END:VCALENDAR
