BEGIN:VCALENDAR
VERSION:2.0
PRODID:-//pretix//Tikkets//
BEGIN:VEVENT
UID:pretix-durpsherd-verlanglijstje-0@tikkets.shop
DTSTART:20241130T140000Z
DTEND:20241130T150000Z
DESCRIPTION:Tickets: https://tikkets.shop/durpsherd/verlanglijstje/\nToegan
 g: 1-10-2024 13:45\nOrganisator: Beneluxtheater
DTSTAMP:20260421T085546Z
SUMMARY:Het verlanglijstje van Sinterklaas
END:VEVENT
END:VCALENDAR
