BEGIN:VCALENDAR
VERSION:2.0
PRODID:-//pretix//Tikkets//
BEGIN:VEVENT
UID:pretix-durpsherd-verlanglijstje-2-0@tikkets.shop
DTSTART:20241201T140000Z
DTEND:20241201T150000Z
DESCRIPTION:Tickets: https://tikkets.shop/durpsherd/verlanglijstje-2/\nToeg
 ang: 2-10-2024 13:45\nOrganisator: Beneluxtheater
DTSTAMP:20260421T085628Z
SUMMARY:14.00u Het verlanglijstje van Sinterklaas
END:VEVENT
END:VCALENDAR
