BEGIN:VCALENDAR
VERSION:2.0
PRODID:-//pretix//Tikkets//
BEGIN:VEVENT
UID:pretix-durpsherd-verlanglijstje-1-0@tikkets.shop
DTSTART:20241201T110000Z
DTEND:20241201T120000Z
DESCRIPTION:Tickets: https://tikkets.shop/durpsherd/verlanglijstje-1/\nToeg
 ang: 2-10-2024 10:45\nOrganisator: Beneluxtheater
DTSTAMP:20260421T085634Z
SUMMARY:11.00u Het verlanglijstje  van Sinterklaas
END:VEVENT
END:VCALENDAR
