BEGIN:VCALENDAR
VERSION:2.0
PRODID:-//pretix//Tikkets//
BEGIN:VTIMEZONE
TZID:Europe/Amsterdam
BEGIN:STANDARD
DTSTART:20001029T040000
RRULE:FREQ=YEARLY;BYDAY=-1SU;BYMONTH=10
TZNAME:CET
TZOFFSETFROM:+0200
TZOFFSETTO:+0100
END:STANDARD
BEGIN:DAYLIGHT
DTSTART:20000326T030000
RRULE:FREQ=YEARLY;BYDAY=-1SU;BYMONTH=3
TZNAME:CEST
TZOFFSETFROM:+0100
TZOFFSETTO:+0200
END:DAYLIGHT
END:VTIMEZONE
BEGIN:VEVENT
UID:pretix-durpsherd-stoomafblazen-0@tikkets.shop
DTSTART;TZID=Europe/Amsterdam:20241229T150000
DTEND;TZID=Europe/Amsterdam:20241229T160000
DESCRIPTION:Tickets: https://tikkets.shop/durpsherd/stoomafblazen/\nToegang
 : 29-12-2024 14:45\nOrganisator: Beneluxtheater
DTSTAMP:20260421T085528Z
LOCATION:Beneluxtheater\, Berlicum
SUMMARY:Dampend & Stampend het jaar uit!
END:VEVENT
END:VCALENDAR
