BEGIN:VCALENDAR
VERSION:2.0
PRODID:-//pretix//Tikkets//
BEGIN:VEVENT
UID:pretix-durpsherd-rock4all-0@tikkets.shop
DTSTART:20241123T200000Z
DTEND:20241123T210000Z
DESCRIPTION:Tickets: https://tikkets.shop/durpsherd/rock4all/\nToegang: 23-
 11-2024 19:45\nOrganisator: Beneluxtheater
DTSTAMP:20260423T085405Z
SUMMARY:Rock4all 1.0
END:VEVENT
END:VCALENDAR
