BEGIN:VCALENDAR
VERSION:2.0
PRODID:-//pretix//Tikkets//
BEGIN:VEVENT
UID:pretix-durpsherd-opera-operette-0@tikkets.shop
DTSTART:20241103T143000Z
DTEND:20241103T153000Z
DESCRIPTION:Tickets: https://tikkets.shop/durpsherd/opera-operette/\nToegan
 g: 4-9-2024 14:15\nOrganisator: Beneluxtheater
DTSTAMP:20260421T085512Z
SUMMARY:Opera ontmoet Operette
END:VEVENT
END:VCALENDAR
