BEGIN:VCALENDAR
VERSION:2.0
PRODID:-//pretix//Tikkets//
BEGIN:VEVENT
UID:pretix-durpsherd-kerstkumtvaneiges-0@tikkets.shop
DTSTART:20241215T140000Z
DTEND:20241215T150000Z
DESCRIPTION:Tickets: https://tikkets.shop/durpsherd/kerstkumtvaneiges/\nToe
 gang: 15-12-2024 13:30\nOrganisator: Beneluxtheater
DTSTAMP:20260421T090819Z
SUMMARY:Kerst met ’t Kumt Vaneiges
END:VEVENT
END:VCALENDAR
