BEGIN:VCALENDAR
VERSION:2.0
PRODID:-//pretix//Tikkets//
BEGIN:VEVENT
UID:pretix-durpsherd-claudiaymanito-0@tikkets.shop
DTSTART:20241124T113000Z
DTEND:20241124T123000Z
DESCRIPTION:Tickets: https://tikkets.shop/durpsherd/claudiaymanito/\nToegan
 g: 25-9-2024 11:15\nOrganisator: Beneluxtheater
DTSTAMP:20260423T084142Z
SUMMARY:Lunchconcert Claudia & Manito
END:VEVENT
END:VCALENDAR
