BEGIN:VCALENDAR
VERSION:2.0
PRODID:-//pretix//Tikkets//
BEGIN:VEVENT
UID:pretix-durpsherd-bigbrotherBart-0@tikkets.shop
DTSTART:20241230T200000Z
DTEND:20241230T210000Z
DESCRIPTION:Tickets: https://tikkets.shop/durpsherd/bigbrotherBart/\nToegan
 g: 31-10-2024 19:45\nOrganisator: Beneluxtheater
DTSTAMP:20260421T085548Z
SUMMARY:BART SPRING IN ’T VELD (WINNAAR BIG BROTHER)
END:VEVENT
END:VCALENDAR
