BEGIN:VCALENDAR
VERSION:2.0
PRODID:-//pretix//Tikkets//
BEGIN:VTIMEZONE
TZID:Europe/Amsterdam
BEGIN:STANDARD
DTSTART:20001029T040000
RRULE:FREQ=YEARLY;BYDAY=-1SU;BYMONTH=10
TZNAME:CET
TZOFFSETFROM:+0200
TZOFFSETTO:+0100
END:STANDARD
BEGIN:DAYLIGHT
DTSTART:20000326T030000
RRULE:FREQ=YEARLY;BYDAY=-1SU;BYMONTH=3
TZNAME:CEST
TZOFFSETFROM:+0100
TZOFFSETTO:+0200
END:DAYLIGHT
END:VTIMEZONE
BEGIN:VEVENT
UID:pretix-durpsherd-aloha-0@tikkets.shop
DTSTART;TZID=Europe/Amsterdam:20230511T203000
DTEND;TZID=Europe/Amsterdam:20230511T213000
DESCRIPTION:Tickets: https://tikkets.shop/durpsherd/aloha/\nToegang: 11-5-2
 023 20:00\nOrganisator: Beneluxtheater
DTSTAMP:20260421T134521Z
LOCATION:Beneluxtheater\, Berlicum
SUMMARY:Dirk and his Good Luck Charms plays Elvis from Hawaii
END:VEVENT
END:VCALENDAR
