BEGIN:VCALENDAR
VERSION:2.0
PRODID:-//pretix//Tikkets//
BEGIN:VTIMEZONE
TZID:Europe/Amsterdam
BEGIN:STANDARD
DTSTART:20001029T040000
RRULE:FREQ=YEARLY;BYDAY=-1SU;BYMONTH=10
TZNAME:CET
TZOFFSETFROM:+0200
TZOFFSETTO:+0100
END:STANDARD
BEGIN:DAYLIGHT
DTSTART:20000326T030000
RRULE:FREQ=YEARLY;BYDAY=-1SU;BYMONTH=3
TZNAME:CEST
TZOFFSETFROM:+0100
TZOFFSETTO:+0200
END:DAYLIGHT
END:VTIMEZONE
BEGIN:VEVENT
UID:pretix-durpsherd-2627-1047@tikkets.shop
DTSTART;TZID=Europe/Amsterdam:20270401T203000
DTEND;TZID=Europe/Amsterdam:20270401T213000
DESCRIPTION:Kaartjes: https://tikkets.shop/durpsherd/2627/1047/\nDeuren ope
 n: 1-4-2027 20:15\nOrganisator: Beneluxtheater
DTSTAMP:20260419T174329Z
SUMMARY:Richard de Leth | Er Is Meer
END:VEVENT
END:VCALENDAR
