BEGIN:VCALENDAR
VERSION:2.0
PRODID:-//pretix//Tikkets//
BEGIN:VTIMEZONE
TZID:Europe/Amsterdam
BEGIN:STANDARD
DTSTART:20001029T040000
RRULE:FREQ=YEARLY;BYDAY=-1SU;BYMONTH=10
TZNAME:CET
TZOFFSETFROM:+0200
TZOFFSETTO:+0100
END:STANDARD
BEGIN:DAYLIGHT
DTSTART:20000326T030000
RRULE:FREQ=YEARLY;BYDAY=-1SU;BYMONTH=3
TZNAME:CEST
TZOFFSETFROM:+0100
TZOFFSETTO:+0200
END:DAYLIGHT
END:VTIMEZONE
BEGIN:VEVENT
UID:pretix-durpsherd-2627-1045@tikkets.shop
DTSTART;TZID=Europe/Amsterdam:20270320T203000
DTEND;TZID=Europe/Amsterdam:20270320T213000
DESCRIPTION:Kaartjes: https://tikkets.shop/durpsherd/2627/1045/\nDeuren ope
 n: 20-3-2027 20:15\nOrganisator: Beneluxtheater
DTSTAMP:20260419T161043Z
SUMMARY:Vuile Huichelaar | Alle 13 Fout!
END:VEVENT
END:VCALENDAR
